BEGIN:VCALENDAR
VERSION:2.0
PRODID:-//Rucher Ecole 81 - ECPv6.0.9//NONSGML v1.0//EN
CALSCALE:GREGORIAN
METHOD:PUBLISH
X-WR-CALNAME:Rucher Ecole 81
X-ORIGINAL-URL:https://www.rucherecole81.fr
X-WR-CALDESC:évènements pour Rucher Ecole 81
REFRESH-INTERVAL;VALUE=DURATION:PT1H
X-Robots-Tag:noindex
X-PUBLISHED-TTL:PT1H
BEGIN:VTIMEZONE
TZID:Europe/Paris
BEGIN:DAYLIGHT
TZOFFSETFROM:+0100
TZOFFSETTO:+0200
TZNAME:CEST
DTSTART:20250330T010000
END:DAYLIGHT
BEGIN:STANDARD
TZOFFSETFROM:+0200
TZOFFSETTO:+0100
TZNAME:CET
DTSTART:20251026T010000
END:STANDARD
END:VTIMEZONE
BEGIN:VEVENT
DTSTART;TZID=Europe/Paris:20250111T090000
DTEND;TZID=Europe/Paris:20250111T120000
DTSTAMP:20260421T233033
CREATED:20211223T175457Z
LAST-MODIFIED:20241207T175523Z
UID:710-1736586000-1736596800@www.rucherecole81.fr
SUMMARY:Présentation  de la formation niveau 2 et traitement à l'acide oxalique
DESCRIPTION:
URL:https://www.rucherecole81.fr/event/presentation-de-la-formation-niveau-2-et-traitement-a-lacide-oxalique/
LOCATION:Rucher Ecole\, 13 Puech Pal\, Réalmont\, 81120\, France
CATEGORIES:Formation Niveau 2
END:VEVENT
BEGIN:VEVENT
DTSTART;TZID=Europe/Paris:20250111T100000
DTEND;TZID=Europe/Paris:20250111T170000
DTSTAMP:20260421T233033
CREATED:20241219T141934Z
LAST-MODIFIED:20241219T141934Z
UID:1436-1736589600-1736614800@www.rucherecole81.fr
SUMMARY:dépôt ouvert
DESCRIPTION:
URL:https://www.rucherecole81.fr/event/depot-ouvert/
LOCATION:Rucher Ecole\, 13 Puech Pal\, Réalmont\, 81120\, France
CATEGORIES:Ouverture du dépôt
END:VEVENT
BEGIN:VEVENT
DTSTART;TZID=Europe/Paris:20250111T140000
DTEND;TZID=Europe/Paris:20250111T160000
DTSTAMP:20260421T233033
CREATED:20211223T174417Z
LAST-MODIFIED:20241207T175441Z
UID:700-1736604000-1736611200@www.rucherecole81.fr
SUMMARY:Présentation générale de la formation niveau 1 et du rucher. Gestes de premier secours.
DESCRIPTION:
URL:https://www.rucherecole81.fr/event/presentation-generale-de-la-formation-niveau-1-et-du-rucher-2/
LOCATION:Rucher Ecole\, 13 Puech Pal\, Réalmont\, 81120\, France
CATEGORIES:Formation Niveau 1
END:VEVENT
BEGIN:VEVENT
DTSTART;TZID=Europe/Paris:20250125T100000
DTEND;TZID=Europe/Paris:20250125T120000
DTSTAMP:20260421T233033
CREATED:20211228T122420Z
LAST-MODIFIED:20241207T175329Z
UID:758-1737799200-1737806400@www.rucherecole81.fr
SUMMARY:Nettoyage des cadres\, partitions\, chaudière pour nettoyage et gaufrage de cires
DESCRIPTION:
URL:https://www.rucherecole81.fr/event/materiel-nettoyage-des-cadres-partition-et-chaudiere-et-cire-2/
LOCATION:Rucher Ecole\, 13 Puech Pal\, Réalmont\, 81120\, France
CATEGORIES:Formation Niveau 2
END:VEVENT
BEGIN:VEVENT
DTSTART;TZID=Europe/Paris:20250125T100000
DTEND;TZID=Europe/Paris:20250125T170000
DTSTAMP:20260421T233033
CREATED:20241219T142225Z
LAST-MODIFIED:20241219T142225Z
UID:1438-1737799200-1737824400@www.rucherecole81.fr
SUMMARY:dépôt ouvert
DESCRIPTION:
URL:https://www.rucherecole81.fr/event/depot-ouvert-2/
LOCATION:Rucher Ecole\, 13 Puech Pal\, Réalmont\, 81120\, France
CATEGORIES:Ouverture du dépôt
END:VEVENT
BEGIN:VEVENT
DTSTART;TZID=Europe/Paris:20250125T140000
DTEND;TZID=Europe/Paris:20250125T160000
DTSTAMP:20260421T233033
CREATED:20211223T174958Z
LAST-MODIFIED:20241207T175145Z
UID:703-1737813600-1737820800@www.rucherecole81.fr
SUMMARY:Le Matériel de base en apiculture (depuis les temps anciens jusqu'à nos jours)
DESCRIPTION:
URL:https://www.rucherecole81.fr/event/le-materiel-de-base-en-apiculture-depuis-les-temps-anciens-jusqua-nos-jours-2/
LOCATION:Rucher Ecole\, 13 Puech Pal\, Réalmont\, 81120\, France
CATEGORIES:Formation Niveau 1
END:VEVENT
BEGIN:VEVENT
DTSTART;TZID=Europe/Paris:20250130T203000
DTEND;TZID=Europe/Paris:20250130T223000
DTSTAMP:20260421T233033
CREATED:20211223T175237Z
LAST-MODIFIED:20241207T175046Z
UID:708-1738269000-1738276200@www.rucherecole81.fr
SUMMARY:La cire et les cadres théorie
DESCRIPTION:
URL:https://www.rucherecole81.fr/event/la-cire-et-les-cadres-theorie/
LOCATION:Visioconférence\, France
CATEGORIES:Formation Niveau 1
END:VEVENT
END:VCALENDAR