BEGIN:VCALENDAR
VERSION:2.0
PRODID:-//Rucher Ecole 81 - ECPv6.0.9//NONSGML v1.0//EN
CALSCALE:GREGORIAN
METHOD:PUBLISH
X-ORIGINAL-URL:https://www.rucherecole81.fr
X-WR-CALDESC:évènements pour Rucher Ecole 81
REFRESH-INTERVAL;VALUE=DURATION:PT1H
X-Robots-Tag:noindex
X-PUBLISHED-TTL:PT1H
BEGIN:VTIMEZONE
TZID:Europe/Paris
BEGIN:DAYLIGHT
TZOFFSETFROM:+0100
TZOFFSETTO:+0200
TZNAME:CEST
DTSTART:20240331T010000
END:DAYLIGHT
BEGIN:STANDARD
TZOFFSETFROM:+0200
TZOFFSETTO:+0100
TZNAME:CET
DTSTART:20241027T010000
END:STANDARD
END:VTIMEZONE
BEGIN:VEVENT
DTSTART;TZID=Europe/Paris:20241109T000000
DTEND;TZID=Europe/Paris:20241109T000000
DTSTAMP:20260422T021338
CREATED:20241008T195336Z
LAST-MODIFIED:20241106T144246Z
UID:1307-1731110400-1731110400@www.rucherecole81.fr
SUMMARY:le dépôt sera exceptionnellement fermé
DESCRIPTION:
URL:https://www.rucherecole81.fr/event/depot-ouvert-52/
LOCATION:Rucher Ecole\, 13 Puech Pal\, Réalmont\, 81120\, France
END:VEVENT
BEGIN:VEVENT
DTSTART;TZID=Europe/Paris:20241123T140000
DTEND;TZID=Europe/Paris:20241123T170000
DTSTAMP:20260422T021338
CREATED:20241008T195441Z
LAST-MODIFIED:20241106T144140Z
UID:1309-1732370400-1732381200@www.rucherecole81.fr
SUMMARY:le dépôt ouvert
DESCRIPTION:
URL:https://www.rucherecole81.fr/event/depot-ouvert-53/
LOCATION:Rucher Ecole\, 13 Puech Pal\, Réalmont\, 81120\, France
END:VEVENT
END:VCALENDAR