BEGIN:VCALENDAR
VERSION:2.0
PRODID:-//Rucher Ecole 81 - ECPv6.0.9//NONSGML v1.0//EN
CALSCALE:GREGORIAN
METHOD:PUBLISH
X-WR-CALNAME:Rucher Ecole 81
X-ORIGINAL-URL:https://www.rucherecole81.fr
X-WR-CALDESC:évènements pour Rucher Ecole 81
REFRESH-INTERVAL;VALUE=DURATION:PT1H
X-Robots-Tag:noindex
X-PUBLISHED-TTL:PT1H
BEGIN:VTIMEZONE
TZID:Europe/Paris
BEGIN:DAYLIGHT
TZOFFSETFROM:+0100
TZOFFSETTO:+0200
TZNAME:CEST
DTSTART:20240331T010000
END:DAYLIGHT
BEGIN:STANDARD
TZOFFSETFROM:+0200
TZOFFSETTO:+0100
TZNAME:CET
DTSTART:20241027T010000
END:STANDARD
END:VTIMEZONE
BEGIN:VEVENT
DTSTART;TZID=Europe/Paris:20240608T100000
DTEND;TZID=Europe/Paris:20240608T170000
DTSTAMP:20260422T095000
CREATED:20231205T102258Z
LAST-MODIFIED:20231205T102258Z
UID:1215-1717840800-1717866000@www.rucherecole81.fr
SUMMARY:Dépôt ouvert + vente de miel
DESCRIPTION:
URL:https://www.rucherecole81.fr/event/depot-ouvert-vente-de-miel-20/
LOCATION:Rucher Ecole\, 13 Puech Pal\, Réalmont\, 81120\, France
CATEGORIES:Ouverture du dépôt
END:VEVENT
BEGIN:VEVENT
DTSTART;TZID=Europe/Paris:20240622T080000
DTEND;TZID=Europe/Paris:20240622T170000
DTSTAMP:20260422T095000
CREATED:20231205T102413Z
LAST-MODIFIED:20231205T102413Z
UID:1217-1719043200-1719075600@www.rucherecole81.fr
SUMMARY:Dépôt ouvert + vente de miel
DESCRIPTION:
URL:https://www.rucherecole81.fr/event/depot-ouvert-vente-de-miel-21/
LOCATION:Rucher Ecole\, 13 Puech Pal\, Réalmont\, 81120\, France
CATEGORIES:Ouverture du dépôt
END:VEVENT
END:VCALENDAR