BEGIN:VCALENDAR
VERSION:2.0
PRODID:-//Rucher Ecole 81 - ECPv6.0.9//NONSGML v1.0//EN
CALSCALE:GREGORIAN
METHOD:PUBLISH
X-WR-CALNAME:Rucher Ecole 81
X-ORIGINAL-URL:https://www.rucherecole81.fr
X-WR-CALDESC:évènements pour Rucher Ecole 81
REFRESH-INTERVAL;VALUE=DURATION:PT1H
X-Robots-Tag:noindex
X-PUBLISHED-TTL:PT1H
BEGIN:VTIMEZONE
TZID:Europe/Paris
BEGIN:DAYLIGHT
TZOFFSETFROM:+0100
TZOFFSETTO:+0200
TZNAME:CEST
DTSTART:20250330T010000
END:DAYLIGHT
BEGIN:STANDARD
TZOFFSETFROM:+0200
TZOFFSETTO:+0100
TZNAME:CET
DTSTART:20251026T010000
END:STANDARD
END:VTIMEZONE
BEGIN:VEVENT
DTSTART;TZID=Europe/Paris:20250510T100000
DTEND;TZID=Europe/Paris:20250510T120000
DTSTAMP:20260421T151515
CREATED:20241207T185310Z
LAST-MODIFIED:20241207T185310Z
UID:1388-1746871200-1746878400@www.rucherecole81.fr
SUMMARY:Visite des colonies/ Divisions/ Suivi élevage reines
DESCRIPTION:
URL:https://www.rucherecole81.fr/event/visite-des-colonies-divisions-suivi-elevage-reines-4/
LOCATION:Rucher Ecole\, 13 Puech Pal\, Réalmont\, 81120\, France
CATEGORIES:Formation Niveau 2
END:VEVENT
BEGIN:VEVENT
DTSTART;TZID=Europe/Paris:20250510T100000
DTEND;TZID=Europe/Paris:20250510T170000
DTSTAMP:20260421T151515
CREATED:20241219T142854Z
LAST-MODIFIED:20241219T142854Z
UID:1452-1746871200-1746896400@www.rucherecole81.fr
SUMMARY:Ouverture du dépôt
DESCRIPTION:
URL:https://www.rucherecole81.fr/event/ouverture-du-depot-7/
LOCATION:Rucher Ecole\, 13 Puech Pal\, Réalmont\, 81120\, France
END:VEVENT
BEGIN:VEVENT
DTSTART;TZID=Europe/Paris:20250510T140000
DTEND;TZID=Europe/Paris:20250510T160000
DTSTAMP:20260421T151515
CREATED:20241207T185507Z
LAST-MODIFIED:20241207T185520Z
UID:1391-1746885600-1746892800@www.rucherecole81.fr
SUMMARY:Visite des ruches pour contrôle du développement des colonies
DESCRIPTION:
URL:https://www.rucherecole81.fr/event/visite-des-ruches-pour-controle-du-developpement-des-colonies-4/
LOCATION:Rucher Ecole\, 13 Puech Pal\, Réalmont\, 81120\, France
CATEGORIES:Formation Niveau 1
END:VEVENT
END:VCALENDAR