BEGIN:VCALENDAR
VERSION:2.0
PRODID:-//Rucher Ecole 81 - ECPv6.0.9//NONSGML v1.0//EN
CALSCALE:GREGORIAN
METHOD:PUBLISH
X-ORIGINAL-URL:https://www.rucherecole81.fr
X-WR-CALDESC:évènements pour Rucher Ecole 81
REFRESH-INTERVAL;VALUE=DURATION:PT1H
X-Robots-Tag:noindex
X-PUBLISHED-TTL:PT1H
BEGIN:VTIMEZONE
TZID:Europe/Paris
BEGIN:DAYLIGHT
TZOFFSETFROM:+0100
TZOFFSETTO:+0200
TZNAME:CEST
DTSTART:20250330T010000
END:DAYLIGHT
BEGIN:STANDARD
TZOFFSETFROM:+0200
TZOFFSETTO:+0100
TZNAME:CET
DTSTART:20251026T010000
END:STANDARD
END:VTIMEZONE
BEGIN:VEVENT
DTSTART;TZID=Europe/Paris:20250426T090000
DTEND;TZID=Europe/Paris:20250427T170000
DTSTAMP:20260421T170313
CREATED:20211228T123439Z
LAST-MODIFIED:20241207T183154Z
UID:770-1745658000-1745773200@www.rucherecole81.fr
SUMMARY:Week-end élevage de reines
DESCRIPTION:
URL:https://www.rucherecole81.fr/event/week-end-elevage-de-reines/
LOCATION:Rucher Ecole\, 13 Puech Pal\, Réalmont\, 81120\, France
CATEGORIES:Formation Niveau 2
END:VEVENT
BEGIN:VEVENT
DTSTART;TZID=Europe/Paris:20250426T100000
DTEND;TZID=Europe/Paris:20250426T170000
DTSTAMP:20260421T170313
CREATED:20241219T142756Z
LAST-MODIFIED:20241219T142756Z
UID:1450-1745661600-1745686800@www.rucherecole81.fr
SUMMARY:Ouverture du dépôt
DESCRIPTION:
URL:https://www.rucherecole81.fr/event/ouverture-du-depot-6/
LOCATION:Rucher Ecole\, 13 Puech Pal\, Réalmont\, 81120\, France
END:VEVENT
BEGIN:VEVENT
DTSTART;TZID=Europe/Paris:20250426T140000
DTEND;TZID=Europe/Paris:20250426T160000
DTSTAMP:20260421T170313
CREATED:20211223T181319Z
LAST-MODIFIED:20241207T182741Z
UID:727-1745676000-1745683200@www.rucherecole81.fr
SUMMARY:Visite de printemps/observation sur le rucher/pose des hausses
DESCRIPTION:
URL:https://www.rucherecole81.fr/event/visite-des-ruches-pour-controle-du-developpement-des-colonies/
LOCATION:Rucher Ecole\, 13 Puech Pal\, Réalmont\, 81120\, France
CATEGORIES:Formation Niveau 1
END:VEVENT
END:VCALENDAR