BEGIN:VCALENDAR
VERSION:2.0
PRODID:-//Rucher Ecole 81 - ECPv6.0.9//NONSGML v1.0//EN
CALSCALE:GREGORIAN
METHOD:PUBLISH
X-ORIGINAL-URL:https://www.rucherecole81.fr
X-WR-CALDESC:évènements pour Rucher Ecole 81
REFRESH-INTERVAL;VALUE=DURATION:PT1H
X-Robots-Tag:noindex
X-PUBLISHED-TTL:PT1H
BEGIN:VTIMEZONE
TZID:Europe/Paris
BEGIN:DAYLIGHT
TZOFFSETFROM:+0100
TZOFFSETTO:+0200
TZNAME:CEST
DTSTART:20250330T010000
END:DAYLIGHT
BEGIN:STANDARD
TZOFFSETFROM:+0200
TZOFFSETTO:+0100
TZNAME:CET
DTSTART:20251026T010000
END:STANDARD
END:VTIMEZONE
BEGIN:VEVENT
DTSTART;TZID=Europe/Paris:20250412T100000
DTEND;TZID=Europe/Paris:20250412T120000
DTSTAMP:20260421T163144
CREATED:20211228T123806Z
LAST-MODIFIED:20241207T183526Z
UID:774-1744452000-1744459200@www.rucherecole81.fr
SUMMARY:Mise en pratique de division sur ruches et  Trappes à pollen/ grilles pour propolis
DESCRIPTION:
URL:https://www.rucherecole81.fr/event/visite-des-colonies-divisions-suivi-elevage-reines/
LOCATION:Rucher Ecole\, 13 Puech Pal\, Réalmont\, 81120\, France
CATEGORIES:Formation Niveau 2
END:VEVENT
BEGIN:VEVENT
DTSTART;TZID=Europe/Paris:20250412T100000
DTEND;TZID=Europe/Paris:20250412T170000
DTSTAMP:20260421T163144
CREATED:20241219T142715Z
LAST-MODIFIED:20241219T142715Z
UID:1448-1744452000-1744477200@www.rucherecole81.fr
SUMMARY:Ouverture du dépôt
DESCRIPTION:
URL:https://www.rucherecole81.fr/event/ouverture-du-depot-5/
LOCATION:Rucher Ecole\, 13 Puech Pal\, Réalmont\, 81120\, France
END:VEVENT
BEGIN:VEVENT
DTSTART;TZID=Europe/Paris:20250412T140000
DTEND;TZID=Europe/Paris:20250412T160000
DTSTAMP:20260421T163144
CREATED:20211223T181116Z
LAST-MODIFIED:20241207T180011Z
UID:725-1744466400-1744473600@www.rucherecole81.fr
SUMMARY:Maladies apiaires et prophylaxie sanitaire : Varroa et Frelons
DESCRIPTION:
URL:https://www.rucherecole81.fr/event/maladies-apiaires-et-prophylaxie-sanitaire-varroa-et-frelons/
LOCATION:Rucher Ecole\, 13 Puech Pal\, Réalmont\, 81120\, France
CATEGORIES:Formation Niveau 1
END:VEVENT
END:VCALENDAR