BEGIN:VCALENDAR
VERSION:2.0
PRODID:-//Rucher Ecole 81 - ECPv6.0.9//NONSGML v1.0//EN
CALSCALE:GREGORIAN
METHOD:PUBLISH
X-WR-CALNAME:Rucher Ecole 81
X-ORIGINAL-URL:https://www.rucherecole81.fr
X-WR-CALDESC:évènements pour Rucher Ecole 81
REFRESH-INTERVAL;VALUE=DURATION:PT1H
X-Robots-Tag:noindex
X-PUBLISHED-TTL:PT1H
BEGIN:VTIMEZONE
TZID:Europe/Paris
BEGIN:DAYLIGHT
TZOFFSETFROM:+0100
TZOFFSETTO:+0200
TZNAME:CEST
DTSTART:20250330T010000
END:DAYLIGHT
BEGIN:STANDARD
TZOFFSETFROM:+0200
TZOFFSETTO:+0100
TZNAME:CET
DTSTART:20251026T010000
END:STANDARD
END:VTIMEZONE
BEGIN:VEVENT
DTSTART;TZID=Europe/Paris:20250322T100000
DTEND;TZID=Europe/Paris:20250322T120000
DTSTAMP:20260421T220907
CREATED:20211228T123042Z
LAST-MODIFIED:20241207T183923Z
UID:766-1742637600-1742644800@www.rucherecole81.fr
SUMMARY:Méthode de division en salle avec Simul ta ruche
DESCRIPTION:
URL:https://www.rucherecole81.fr/event/methode-de-division-en-salle-avec-simul-ta-ruche-et-trappes-a-pollen-grilles-pour-propolis/
LOCATION:Rucher Ecole\, 13 Puech Pal\, Réalmont\, 81120\, France
CATEGORIES:Formation Niveau 2
END:VEVENT
BEGIN:VEVENT
DTSTART;TZID=Europe/Paris:20250322T100000
DTEND;TZID=Europe/Paris:20250322T170000
DTSTAMP:20260421T220907
CREATED:20241219T142612Z
LAST-MODIFIED:20241219T142612Z
UID:1446-1742637600-1742662800@www.rucherecole81.fr
SUMMARY:Ouverture du dépôt
DESCRIPTION:
URL:https://www.rucherecole81.fr/event/ouverture-du-depot-4/
LOCATION:Rucher Ecole\, 13 Puech Pal\, Réalmont\, 81120\, France
END:VEVENT
BEGIN:VEVENT
DTSTART;TZID=Europe/Paris:20250322T140000
DTEND;TZID=Europe/Paris:20250322T160000
DTSTAMP:20260421T220907
CREATED:20211223T180609Z
LAST-MODIFIED:20241207T183807Z
UID:718-1742652000-1742659200@www.rucherecole81.fr
SUMMARY:Préparation de la  visite de printemps en salle avec simul ta ruche
DESCRIPTION:
URL:https://www.rucherecole81.fr/event/preparation-de-la-visite-de-printemps-en-salle-avec-simul-ta-ruche/
LOCATION:Rucher Ecole\, 13 Puech Pal\, Réalmont\, 81120\, France
CATEGORIES:Formation Niveau 1
END:VEVENT
END:VCALENDAR