BEGIN:VCALENDAR
VERSION:2.0
PRODID:-//Rucher Ecole 81 - ECPv6.0.9//NONSGML v1.0//EN
CALSCALE:GREGORIAN
METHOD:PUBLISH
X-ORIGINAL-URL:https://www.rucherecole81.fr
X-WR-CALDESC:évènements pour Rucher Ecole 81
REFRESH-INTERVAL;VALUE=DURATION:PT1H
X-Robots-Tag:noindex
X-PUBLISHED-TTL:PT1H
BEGIN:VTIMEZONE
TZID:Europe/Paris
BEGIN:DAYLIGHT
TZOFFSETFROM:+0100
TZOFFSETTO:+0200
TZNAME:CEST
DTSTART:20250330T010000
END:DAYLIGHT
BEGIN:STANDARD
TZOFFSETFROM:+0200
TZOFFSETTO:+0100
TZNAME:CET
DTSTART:20251026T010000
END:STANDARD
END:VTIMEZONE
BEGIN:VEVENT
DTSTART;TZID=Europe/Paris:20250308T100000
DTEND;TZID=Europe/Paris:20250308T120000
DTSTAMP:20260421T220914
CREATED:20211228T122900Z
LAST-MODIFIED:20241207T184047Z
UID:764-1741428000-1741435200@www.rucherecole81.fr
SUMMARY:Biologie de l abeille (approfondissement)
DESCRIPTION:
URL:https://www.rucherecole81.fr/event/biologie-de-l-abeille-approfondissement/
LOCATION:Rucher Ecole\, 13 Puech Pal\, Réalmont\, 81120\, France
CATEGORIES:Formation Niveau 2
END:VEVENT
BEGIN:VEVENT
DTSTART;TZID=Europe/Paris:20250308T100000
DTEND;TZID=Europe/Paris:20250308T170000
DTSTAMP:20260421T220914
CREATED:20241219T142529Z
LAST-MODIFIED:20241219T142529Z
UID:1444-1741428000-1741453200@www.rucherecole81.fr
SUMMARY:Ouverture du dépôt
DESCRIPTION:
URL:https://www.rucherecole81.fr/event/ouverture-du-depot-3/
LOCATION:Rucher Ecole\, 13 Puech Pal\, Réalmont\, 81120\, France
END:VEVENT
BEGIN:VEVENT
DTSTART;TZID=Europe/Paris:20250308T140000
DTEND;TZID=Europe/Paris:20250308T160000
DTSTAMP:20260421T220914
CREATED:20211226T130526Z
LAST-MODIFIED:20241207T184020Z
UID:756-1741442400-1741449600@www.rucherecole81.fr
SUMMARY:Connaissance de la colonie\, de ses individus et de leurs rôles. Biologie de l'abeille
DESCRIPTION:
URL:https://www.rucherecole81.fr/event/connaissance-de-la-colonie-de-ses-individus-et-de-leurs-roles-biologie-de-labeille/
LOCATION:Rucher Ecole\, 13 Puech Pal\, Réalmont\, 81120\, France
CATEGORIES:Formation Niveau 1
END:VEVENT
END:VCALENDAR