BEGIN:VCALENDAR
VERSION:2.0
PRODID:-//Rucher Ecole 81 - ECPv6.0.9//NONSGML v1.0//EN
CALSCALE:GREGORIAN
METHOD:PUBLISH
X-WR-CALNAME:Rucher Ecole 81
X-ORIGINAL-URL:https://www.rucherecole81.fr
X-WR-CALDESC:évènements pour Rucher Ecole 81
REFRESH-INTERVAL;VALUE=DURATION:PT1H
X-Robots-Tag:noindex
X-PUBLISHED-TTL:PT1H
BEGIN:VTIMEZONE
TZID:Europe/Paris
BEGIN:DAYLIGHT
TZOFFSETFROM:+0100
TZOFFSETTO:+0200
TZNAME:CEST
DTSTART:20250330T010000
END:DAYLIGHT
BEGIN:STANDARD
TZOFFSETFROM:+0200
TZOFFSETTO:+0100
TZNAME:CET
DTSTART:20251026T010000
END:STANDARD
END:VTIMEZONE
BEGIN:VEVENT
DTSTART;TZID=Europe/Paris:20250222T100000
DTEND;TZID=Europe/Paris:20250222T120000
DTSTAMP:20260421T232304
CREATED:20211228T122730Z
LAST-MODIFIED:20241207T174805Z
UID:762-1740218400-1740225600@www.rucherecole81.fr
SUMMARY:Le nourrissement (théorie et pratique) et  Trappes à pollen/ grilles pour propolis
DESCRIPTION:
URL:https://www.rucherecole81.fr/event/le-nourrissement-theorie-et-pratique/
LOCATION:Rucher Ecole\, 13 Puech Pal\, Réalmont\, 81120\, France
CATEGORIES:Formation Niveau 2
END:VEVENT
BEGIN:VEVENT
DTSTART;TZID=Europe/Paris:20250222T100000
DTEND;TZID=Europe/Paris:20250222T170000
DTSTAMP:20260421T232304
CREATED:20241219T142436Z
LAST-MODIFIED:20241219T142436Z
UID:1442-1740218400-1740243600@www.rucherecole81.fr
SUMMARY:Ouverture du dépôt
DESCRIPTION:
URL:https://www.rucherecole81.fr/event/ouverture-du-depot-2/
LOCATION:Rucher Ecole\, 13 Puech Pal\, Réalmont\, 81120\, France
END:VEVENT
BEGIN:VEVENT
DTSTART;TZID=Europe/Paris:20250222T140000
DTEND;TZID=Europe/Paris:20250222T160000
DTSTAMP:20260421T232304
CREATED:20211223T180155Z
LAST-MODIFIED:20241207T174707Z
UID:715-1740232800-1740240000@www.rucherecole81.fr
SUMMARY:Travaux pratiques sur filage des cadres et gaufrage de cires à la miellerie (2 groupes alternés)
DESCRIPTION:
URL:https://www.rucherecole81.fr/event/travaux-pratiques-sur-filage-des-cadres-et-gaufrage-de-cires-a-la-miellerie-2-groupes-alternes/
LOCATION:Rucher Ecole\, 13 Puech Pal\, Réalmont\, 81120\, France
CATEGORIES:Formation Niveau 1
END:VEVENT
END:VCALENDAR