BEGIN:VCALENDAR
VERSION:2.0
PRODID:-//Rucher Ecole 81 - ECPv6.0.9//NONSGML v1.0//EN
CALSCALE:GREGORIAN
METHOD:PUBLISH
X-ORIGINAL-URL:https://www.rucherecole81.fr
X-WR-CALDESC:évènements pour Rucher Ecole 81
REFRESH-INTERVAL;VALUE=DURATION:PT1H
X-Robots-Tag:noindex
X-PUBLISHED-TTL:PT1H
BEGIN:VTIMEZONE
TZID:Europe/Paris
BEGIN:DAYLIGHT
TZOFFSETFROM:+0100
TZOFFSETTO:+0200
TZNAME:CEST
DTSTART:20250330T010000
END:DAYLIGHT
BEGIN:STANDARD
TZOFFSETFROM:+0200
TZOFFSETTO:+0100
TZNAME:CET
DTSTART:20251026T010000
END:STANDARD
END:VTIMEZONE
BEGIN:VEVENT
DTSTART;TZID=Europe/Paris:20250208T100000
DTEND;TZID=Europe/Paris:20250208T120000
DTSTAMP:20260421T233043
CREATED:20201210T203759Z
LAST-MODIFIED:20241207T174953Z
UID:331-1739008800-1739016000@www.rucherecole81.fr
SUMMARY:Législation et règlementation (approfondissement)
DESCRIPTION:
URL:https://www.rucherecole81.fr/event/legislation-et-reglementation-approfondissement/
LOCATION:Visioconférence\, France
CATEGORIES:Formation Niveau 2
END:VEVENT
BEGIN:VEVENT
DTSTART;TZID=Europe/Paris:20250208T100000
DTEND;TZID=Europe/Paris:20250208T170000
DTSTAMP:20260421T233043
CREATED:20241219T142356Z
LAST-MODIFIED:20241219T142356Z
UID:1440-1739008800-1739034000@www.rucherecole81.fr
SUMMARY:Ouverture du dépôt
DESCRIPTION:
URL:https://www.rucherecole81.fr/event/ouverture-du-depot/
LOCATION:Rucher Ecole\, 13 Puech Pal\, Réalmont\, 81120\, France
CATEGORIES:Ouverture du dépôt
END:VEVENT
BEGIN:VEVENT
DTSTART;TZID=Europe/Paris:20250208T140000
DTEND;TZID=Europe/Paris:20250208T160000
DTSTAMP:20260421T233043
CREATED:20201210T204000Z
LAST-MODIFIED:20241207T174853Z
UID:333-1739023200-1739030400@www.rucherecole81.fr
SUMMARY:Législation et règlementation 
DESCRIPTION:
URL:https://www.rucherecole81.fr/event/legislation-et-reglementation/
LOCATION:Rucher Ecole\, 13 Puech Pal\, Réalmont\, 81120\, France
CATEGORIES:Formation Niveau 1
END:VEVENT
END:VCALENDAR