BEGIN:VCALENDAR
VERSION:2.0
PRODID:-//Rucher Ecole 81 - ECPv6.0.9//NONSGML v1.0//EN
CALSCALE:GREGORIAN
METHOD:PUBLISH
X-WR-CALNAME:Rucher Ecole 81
X-ORIGINAL-URL:https://www.rucherecole81.fr
X-WR-CALDESC:évènements pour Rucher Ecole 81
REFRESH-INTERVAL;VALUE=DURATION:PT1H
X-Robots-Tag:noindex
X-PUBLISHED-TTL:PT1H
BEGIN:VTIMEZONE
TZID:Europe/Paris
BEGIN:DAYLIGHT
TZOFFSETFROM:+0100
TZOFFSETTO:+0200
TZNAME:CEST
DTSTART:20250330T010000
END:DAYLIGHT
BEGIN:STANDARD
TZOFFSETFROM:+0200
TZOFFSETTO:+0100
TZNAME:CET
DTSTART:20251026T010000
END:STANDARD
END:VTIMEZONE
BEGIN:VEVENT
DTSTART;TZID=Europe/Paris:20250130T203000
DTEND;TZID=Europe/Paris:20250130T223000
DTSTAMP:20260421T232919
CREATED:20211223T175237Z
LAST-MODIFIED:20241207T175046Z
UID:708-1738269000-1738276200@www.rucherecole81.fr
SUMMARY:La cire et les cadres théorie
DESCRIPTION:
URL:https://www.rucherecole81.fr/event/la-cire-et-les-cadres-theorie/
LOCATION:Visioconférence\, France
CATEGORIES:Formation Niveau 1
END:VEVENT
END:VCALENDAR